BEGIN:VCALENDAR
VERSION:2.0
PRODID:-//The Work - ECPv6.15.13//NONSGML v1.0//EN
CALSCALE:GREGORIAN
METHOD:PUBLISH
X-ORIGINAL-URL:https://thework.fr
X-WR-CALDESC:Évènements pour The Work
REFRESH-INTERVAL;VALUE=DURATION:PT1H
X-Robots-Tag:noindex
X-PUBLISHED-TTL:PT1H
BEGIN:VTIMEZONE
TZID:Europe/Paris
BEGIN:DAYLIGHT
TZOFFSETFROM:+0100
TZOFFSETTO:+0200
TZNAME:CEST
DTSTART:20250330T010000
END:DAYLIGHT
BEGIN:STANDARD
TZOFFSETFROM:+0200
TZOFFSETTO:+0100
TZNAME:CET
DTSTART:20251026T010000
END:STANDARD
BEGIN:DAYLIGHT
TZOFFSETFROM:+0100
TZOFFSETTO:+0200
TZNAME:CEST
DTSTART:20260329T010000
END:DAYLIGHT
BEGIN:STANDARD
TZOFFSETFROM:+0200
TZOFFSETTO:+0100
TZNAME:CET
DTSTART:20261025T010000
END:STANDARD
BEGIN:DAYLIGHT
TZOFFSETFROM:+0100
TZOFFSETTO:+0200
TZNAME:CEST
DTSTART:20270328T010000
END:DAYLIGHT
BEGIN:STANDARD
TZOFFSETFROM:+0200
TZOFFSETTO:+0100
TZNAME:CET
DTSTART:20271031T010000
END:STANDARD
END:VTIMEZONE
BEGIN:VEVENT
DTSTART;TZID=Europe/Paris:20260525T150000
DTEND;TZID=Europe/Paris:20260606T120000
DTSTAMP:20260425T154415
CREATED:20251223T014909Z
LAST-MODIFIED:20251226T234540Z
UID:5998-1779721200-1780747200@thework.fr
SUMMARY:WALK'n WORK en Aragon
DESCRIPTION:Le mot d’Olivier : \nItinérance à pied en Sierra de Guara\nprovince d’Aragon\, Espagne\n\nLes montagnes pyrénéennes flirtent souvent avec les 3000 mètres d’altitude.\nSur son versant espagnol\, ces hauts sommets s’abaissent\, s’adoucissent\,\net offre une kyrielle de massifs calcaires plus modestes\,\ninsolites et spectaculaires.\n\nL’un de ces joyaux se trouvent en Aragon\, dans la Sierra de Guara.\nAu milieu d’immenses forêts de chênes verts\,\nle travail du temps et des éléments a creusé pendant des milliers d’années\nde somptueux canyons\,\ndentelles de calcaires au fond desquels circule une eau turquoise.\n\nNotre itinérance les croise\, les longe\,\net parfois notre peau goûte cette eau si aguichante !\nElle parcoure les chemins ancestraux façonnés par les paysans\,\nbordés de magnifiques murs en pierre sèche.\nElle traverse des forêts sauvages\nabritant plus de chevreuils et de sangliers que d’humains.\nElle parcoure des paysages de garrigue fleurie\naux senteurs de pinède\, de thym et de romarin.\nElle visite des hameaux abandonnés\, d’autres faiblement peuplés\,\nmoments empreints d’une grande quiétude.\nElle fait halte dans un magnifique village médiéval\,\noù flâner dans ses ruelles pavées\ncontinuent de nous faire voyager dans le temps.\nElle se pose aussi dans un lieu rare\, magnifiquement harmonieux\,\nà la fois intime\, et immense par l’espace qui nous envahit…\n\nLe Haut Aragon m’a toujours ému !\nC’est l’invitation que je te lance ;\nretrouver le temps d’une marche\ncette symbiose de l’Homme avec la Nature\net sa propre Nature…
URL:https://thework.fr/evenement/walkn-work-en-aragon-2/
LOCATION:Sierra de Guara\, Espagne
CATEGORIES:Walk and Work
ATTACH;FMTTYPE=image/webp:https://thework.fr/wp-content/uploads/2025/12/654514_QuatreTiers_md.ori_.webp
ORGANIZER;CN="Olivier Carrere":MAILTO:oliacarrere@gmail.com
END:VEVENT
END:VCALENDAR